Package: SCAN.UPC Version: 2.51.0 Command: /Library/Frameworks/R.framework/Resources/bin/R CMD build --keep-empty-dirs --no-resave-data SCAN.UPC StartedAt: 2025-10-26 17:49:57 -0400 (Sun, 26 Oct 2025) EndedAt: 2025-10-26 17:50:19 -0400 (Sun, 26 Oct 2025) EllapsedTime: 22.2 seconds RetCode: 0 Status: OK PackageFile: SCAN.UPC_2.51.0.tar.gz PackageFileSize: 689 KiB