Package: SC3 Version: 1.37.0 Command: /home/biocbuild/R/R/bin/R CMD INSTALL SC3 StartedAt: 2025-10-23 20:38:51 -0000 (Thu, 23 Oct 2025) EndedAt: 2025-10-23 20:39:52 -0000 (Thu, 23 Oct 2025) EllapsedTime: 61.3 seconds RetCode: 0 Status: OK