Package: SC3 Version: 1.37.0 Command: /home/biocbuild/R/R/bin/R CMD build --keep-empty-dirs --no-resave-data SC3 StartedAt: 2025-10-21 02:46:53 -0000 (Tue, 21 Oct 2025) EndedAt: 2025-10-21 02:56:13 -0000 (Tue, 21 Oct 2025) EllapsedTime: 560.7 seconds RetCode: 0 Status: OK PackageFile: SC3_1.37.0.tar.gz PackageFileSize: 2.417 MiB