Package: SC3 Version: 1.37.0 Command: /home/biocbuild/bbs-3.22-bioc/R/bin/R CMD INSTALL SC3 StartedAt: 2025-10-24 15:29:42 -0400 (Fri, 24 Oct 2025) EndedAt: 2025-10-24 15:30:24 -0400 (Fri, 24 Oct 2025) EllapsedTime: 41.6 seconds RetCode: 0 Status: OK