Package: SC3 Version: 1.37.0 Command: /home/biocbuild/bbs-3.22-bioc/R/bin/R CMD check --install=check:SC3.install-out.txt --library=/home/biocbuild/bbs-3.22-bioc/R/site-library --timings SC3_1.37.0.tar.gz StartedAt: 2025-10-25 03:41:17 -0400 (Sat, 25 Oct 2025) EndedAt: 2025-10-25 03:50:34 -0400 (Sat, 25 Oct 2025) EllapsedTime: 557.9 seconds RetCode: 0 Status: OK CheckDir: SC3.Rcheck Warnings: 0