Package: SC3 Version: 1.37.0 Command: /Library/Frameworks/R.framework/Resources/bin/R CMD build --keep-empty-dirs --no-resave-data SC3 StartedAt: 2025-10-24 18:35:45 -0400 (Fri, 24 Oct 2025) EndedAt: 2025-10-24 18:44:02 -0400 (Fri, 24 Oct 2025) EllapsedTime: 496.9 seconds RetCode: 0 Status: OK PackageFile: SC3_1.37.0.tar.gz PackageFileSize: 3.375 MiB