Package: SBMLR Version: 2.5.0 Command: /home/biocbuild/bbs-3.22-bioc/R/bin/R CMD INSTALL SBMLR StartedAt: 2025-10-24 15:13:08 -0400 (Fri, 24 Oct 2025) EndedAt: 2025-10-24 15:13:22 -0400 (Fri, 24 Oct 2025) EllapsedTime: 13.5 seconds RetCode: 0 Status: OK