Package: SBMLR Version: 2.6.0 Command: /Library/Frameworks/R.framework/Resources/bin/R CMD INSTALL SBMLR StartedAt: 2025-11-10 15:01:35 -0500 (Mon, 10 Nov 2025) EndedAt: 2025-11-10 15:01:40 -0500 (Mon, 10 Nov 2025) EllapsedTime: 4.2 seconds RetCode: 0 Status: OK