Package: SARC Version: 1.7.1 Command: /home/biocbuild/bbs-3.22-bioc/R/bin/R CMD INSTALL SARC StartedAt: 2025-10-24 16:11:40 -0400 (Fri, 24 Oct 2025) EndedAt: 2025-10-24 16:12:19 -0400 (Fri, 24 Oct 2025) EllapsedTime: 39.0 seconds RetCode: 0 Status: OK