Package: SANTA Version: 2.45.0 Command: /home/biocbuild/bbs-3.22-bioc/R/bin/R CMD INSTALL SANTA StartedAt: 2025-10-24 15:16:00 -0400 (Fri, 24 Oct 2025) EndedAt: 2025-10-24 15:16:20 -0400 (Fri, 24 Oct 2025) EllapsedTime: 19.7 seconds RetCode: 0 Status: OK