Package: SAIGEgds Version: 2.10.0 Command: /home/biocbuild/bbs-3.22-bioc/R/bin/R CMD INSTALL SAIGEgds StartedAt: 2025-11-16 15:24:18 -0500 (Sun, 16 Nov 2025) EndedAt: 2025-11-16 15:25:37 -0500 (Sun, 16 Nov 2025) EllapsedTime: 79.4 seconds RetCode: 0 Status: OK