Package: SAIGEgds Version: 2.10.0 Command: /home/biocbuild/bbs-3.22-bioc/R/bin/R CMD build --keep-empty-dirs --no-resave-data --md5 SAIGEgds StartedAt: 2025-11-16 19:56:46 -0500 (Sun, 16 Nov 2025) EndedAt: 2025-11-16 19:58:18 -0500 (Sun, 16 Nov 2025) EllapsedTime: 92.1 seconds RetCode: 0 Status: OK PackageFile: SAIGEgds_2.10.0.tar.gz PackageFileSize: 1.981 MiB