Package: S4Vectors Version: 0.47.5 Command: /home/biocbuild/bbs-3.22-bioc/R/bin/R CMD build --keep-empty-dirs --no-resave-data --md5 S4Vectors StartedAt: 2025-10-24 19:55:21 -0400 (Fri, 24 Oct 2025) EndedAt: 2025-10-24 19:56:19 -0400 (Fri, 24 Oct 2025) EllapsedTime: 57.1 seconds RetCode: 0 Status: OK PackageFile: S4Vectors_0.47.5.tar.gz PackageFileSize: 824.3 KiB