Package: S4Arrays Version: 1.9.1 Command: /home/biocbuild/bbs-3.22-bioc/R/bin/R CMD INSTALL S4Arrays StartedAt: 2025-10-24 15:24:52 -0400 (Fri, 24 Oct 2025) EndedAt: 2025-10-24 15:25:09 -0400 (Fri, 24 Oct 2025) EllapsedTime: 16.9 seconds RetCode: 0 Status: OK