Package: S4Arrays Version: 1.10.0 Command: /Library/Frameworks/R.framework/Resources/bin/R CMD INSTALL S4Arrays StartedAt: 2025-10-31 15:25:00 -0400 (Fri, 31 Oct 2025) EndedAt: 2025-10-31 15:25:21 -0400 (Fri, 31 Oct 2025) EllapsedTime: 20.4 seconds RetCode: 0 Status: OK