Package: S4Arrays Version: 1.10.0 Command: /Library/Frameworks/R.framework/Resources/bin/R CMD build --keep-empty-dirs --no-resave-data S4Arrays StartedAt: 2025-10-31 18:37:30 -0400 (Fri, 31 Oct 2025) EndedAt: 2025-10-31 18:37:59 -0400 (Fri, 31 Oct 2025) EllapsedTime: 28.5 seconds RetCode: 0 Status: OK PackageFile: S4Arrays_1.10.0.tar.gz PackageFileSize: 288 KiB