Package: S4Arrays Version: 1.10.0 Command: rm -rf S4Arrays.buildbin-libdir && mkdir S4Arrays.buildbin-libdir && /Users/biocbuild/BBS/utils/build-universal.sh S4Arrays_1.10.0.tar.gz /Library/Frameworks/R.framework/Resources/bin/R S4Arrays.buildbin-libdir StartedAt: 2025-11-01 01:55:02 -0400 (Sat, 01 Nov 2025) EndedAt: 2025-11-01 01:55:34 -0400 (Sat, 01 Nov 2025) EllapsedTime: 32.3 seconds RetCode: 0 Status: OK PackageFile: S4Arrays_1.10.0.tgz PackageFileSize: 1.159 MiB