Package: S4Arrays Version: 1.9.1 Command: rm -rf S4Arrays.buildbin-libdir && mkdir S4Arrays.buildbin-libdir && /Users/biocbuild/BBS/utils/build-universal.sh S4Arrays_1.9.1.tar.gz /Library/Frameworks/R.framework/Resources/bin/R S4Arrays.buildbin-libdir StartedAt: 2025-10-24 23:17:55 -0400 (Fri, 24 Oct 2025) EndedAt: 2025-10-24 23:18:03 -0400 (Fri, 24 Oct 2025) EllapsedTime: 8.2 seconds RetCode: 0 Status: OK PackageFile: S4Arrays_1.9.1.tgz PackageFileSize: 1.16 MiB