Package: S4Arrays Version: 1.10.0 Maintainer: Hervé Pagès MaintainerEmail: hpages.on.github at gmail.com git_url: https://git.bioconductor.org/packages/S4Arrays git_branch: RELEASE_3_22 git_last_commit: 79170b1 git_last_commit_date: 2025-10-29 13:18:22 -0400 (Wed, 29 Oct 2025)