Package: Rvisdiff Version: 1.7.1 Command: /home/biocbuild/bbs-3.22-bioc/R/bin/R CMD check --install=check:Rvisdiff.install-out.txt --library=/home/biocbuild/bbs-3.22-bioc/R/site-library --timings Rvisdiff_1.7.1.tar.gz StartedAt: 2025-10-25 03:38:24 -0400 (Sat, 25 Oct 2025) EndedAt: 2025-10-25 03:41:53 -0400 (Sat, 25 Oct 2025) EllapsedTime: 208.3 seconds RetCode: 0 Status: OK CheckDir: Rvisdiff.Rcheck Warnings: 0