Package: Rvisdiff Version: 1.7.1 Command: /Library/Frameworks/R.framework/Resources/bin/R CMD check --install=check:Rvisdiff.install-out.txt --library=/Library/Frameworks/R.framework/Resources/library --no-vignettes --timings Rvisdiff_1.7.1.tar.gz StartedAt: 2025-10-24 23:56:53 -0400 (Fri, 24 Oct 2025) EndedAt: 2025-10-24 23:59:55 -0400 (Fri, 24 Oct 2025) EllapsedTime: 181.4 seconds RetCode: 0 Status: OK CheckDir: Rvisdiff.Rcheck Warnings: 0