Package: Rvisdiff Version: 1.7.1 Command: /Library/Frameworks/R.framework/Resources/bin/R CMD build --keep-empty-dirs --no-resave-data Rvisdiff StartedAt: 2025-10-24 18:34:32 -0400 (Fri, 24 Oct 2025) EndedAt: 2025-10-24 18:35:48 -0400 (Fri, 24 Oct 2025) EllapsedTime: 75.5 seconds RetCode: 0 Status: OK PackageFile: Rvisdiff_1.7.1.tar.gz PackageFileSize: 1.315 MiB