Package: Rvisdiff Version: 1.7.1 Command: rm -rf Rvisdiff.buildbin-libdir && mkdir Rvisdiff.buildbin-libdir && /Users/biocbuild/BBS/utils/build-universal.sh Rvisdiff_1.7.1.tar.gz /Library/Frameworks/R.framework/Resources/bin/R Rvisdiff.buildbin-libdir StartedAt: 2025-10-25 02:01:14 -0400 (Sat, 25 Oct 2025) EndedAt: 2025-10-25 02:01:24 -0400 (Sat, 25 Oct 2025) EllapsedTime: 10.4 seconds RetCode: 0 Status: OK PackageFile: Rvisdiff_1.7.1.tgz PackageFileSize: 945.6 KiB