Package: Rvisdiff Version: 1.7.1 Command: /Library/Frameworks/R.framework/Resources/bin/R CMD INSTALL Rvisdiff StartedAt: 2025-10-24 15:04:35 -0400 (Fri, 24 Oct 2025) EndedAt: 2025-10-24 15:04:38 -0400 (Fri, 24 Oct 2025) EllapsedTime: 3.1 seconds RetCode: 0 Status: OK