Package: Rvisdiff Version: 1.7.1 Command: /Library/Frameworks/R.framework/Resources/bin/R CMD check --install=check:Rvisdiff.install-out.txt --library=/Library/Frameworks/R.framework/Resources/library --no-vignettes --timings Rvisdiff_1.7.1.tar.gz StartedAt: 2025-10-24 21:49:32 -0400 (Fri, 24 Oct 2025) EndedAt: 2025-10-24 21:50:39 -0400 (Fri, 24 Oct 2025) EllapsedTime: 66.8 seconds RetCode: 0 Status: OK CheckDir: Rvisdiff.Rcheck Warnings: 0