Package: Rvisdiff Version: 1.7.1 Command: /Library/Frameworks/R.framework/Resources/bin/R CMD build --keep-empty-dirs --no-resave-data Rvisdiff StartedAt: 2025-10-24 17:35:53 -0400 (Fri, 24 Oct 2025) EndedAt: 2025-10-24 17:36:21 -0400 (Fri, 24 Oct 2025) EllapsedTime: 28.4 seconds RetCode: 0 Status: OK PackageFile: Rvisdiff_1.7.1.tar.gz PackageFileSize: 1.315 MiB