Package: Rvisdiff Version: 1.7.1 Maintainer: David Barrios MaintainerEmail: metal at usal.es git_url: https://git.bioconductor.org/packages/Rvisdiff git_branch: devel git_last_commit: ce11c9f git_last_commit_date: 2025-10-17 04:55:59 -0400 (Fri, 17 Oct 2025)