Package: Rsamtools Version: 2.25.3 Command: /home/biocbuild/bbs-3.22-bioc/R/bin/R CMD INSTALL Rsamtools StartedAt: 2025-10-24 15:25:55 -0400 (Fri, 24 Oct 2025) EndedAt: 2025-10-24 15:26:34 -0400 (Fri, 24 Oct 2025) EllapsedTime: 39.2 seconds RetCode: 0 Status: OK