Package: Rsamtools Version: 2.25.3 Command: /home/biocbuild/bbs-3.22-bioc/R/bin/R CMD build --keep-empty-dirs --no-resave-data --md5 Rsamtools StartedAt: 2025-10-24 19:52:53 -0400 (Fri, 24 Oct 2025) EndedAt: 2025-10-24 19:53:54 -0400 (Fri, 24 Oct 2025) EllapsedTime: 61.1 seconds RetCode: 0 Status: OK PackageFile: Rsamtools_2.25.3.tar.gz PackageFileSize: 1.828 MiB