Package: Rnits Version: 1.44.0 Command: /home/biocbuild/bbs-3.22-bioc/R/bin/R CMD build --keep-empty-dirs --no-resave-data --md5 Rnits StartedAt: 2025-11-16 19:51:37 -0500 (Sun, 16 Nov 2025) EndedAt: 2025-11-16 19:52:50 -0500 (Sun, 16 Nov 2025) EllapsedTime: 73.0 seconds RetCode: 0 Status: OK PackageFile: Rnits_1.44.0.tar.gz PackageFileSize: 656.9 KiB