Package: Rmmquant Version: 1.28.0 Command: /home/biocbuild/bbs-3.22-bioc/R/bin/R CMD check --install=check:Rmmquant.install-out.txt --library=/home/biocbuild/bbs-3.22-bioc/R/site-library --timings Rmmquant_1.28.0.tar.gz StartedAt: 2025-11-01 03:30:07 -0400 (Sat, 01 Nov 2025) EndedAt: 2025-11-01 03:35:13 -0400 (Sat, 01 Nov 2025) EllapsedTime: 306.3 seconds RetCode: 0 Status: OK CheckDir: Rmmquant.Rcheck Warnings: 0