Package: Rmmquant Version: 1.28.0 Command: /Library/Frameworks/R.framework/Resources/bin/R CMD INSTALL Rmmquant StartedAt: 2025-10-31 15:42:43 -0400 (Fri, 31 Oct 2025) EndedAt: 2025-10-31 15:43:56 -0400 (Fri, 31 Oct 2025) EllapsedTime: 73.7 seconds RetCode: 0 Status: OK