Package: Rmmquant Version: 1.28.0 Command: /Library/Frameworks/R.framework/Resources/bin/R CMD build --keep-empty-dirs --no-resave-data Rmmquant StartedAt: 2025-10-31 18:32:48 -0400 (Fri, 31 Oct 2025) EndedAt: 2025-10-31 18:34:18 -0400 (Fri, 31 Oct 2025) EllapsedTime: 89.3 seconds RetCode: 0 Status: OK PackageFile: Rmmquant_1.28.0.tar.gz PackageFileSize: 44.87 KiB