Package: Rmmquant Version: 1.28.0 Command: rm -rf Rmmquant.buildbin-libdir && mkdir Rmmquant.buildbin-libdir && /Users/biocbuild/BBS/utils/build-universal.sh Rmmquant_1.28.0.tar.gz /Library/Frameworks/R.framework/Resources/bin/R Rmmquant.buildbin-libdir StartedAt: 2025-11-01 01:53:38 -0400 (Sat, 01 Nov 2025) EndedAt: 2025-11-01 01:54:57 -0400 (Sat, 01 Nov 2025) EllapsedTime: 79.5 seconds RetCode: 0 Status: OK PackageFile: Rmmquant_1.28.0.tgz PackageFileSize: 450.8 KiB