Package: Rmagpie Version: 1.65.0 Command: /home/biocbuild/bbs-3.22-bioc/R/bin/R CMD build --keep-empty-dirs --no-resave-data --md5 Rmagpie StartedAt: 2025-10-24 19:48:28 -0400 (Fri, 24 Oct 2025) EndedAt: 2025-10-24 19:49:01 -0400 (Fri, 24 Oct 2025) EllapsedTime: 33.0 seconds RetCode: 0 Status: OK PackageFile: Rmagpie_1.65.0.tar.gz PackageFileSize: 483.5 KiB