Package: Rigraphlib Version: 1.1.2 Command: /home/biocbuild/R/R/bin/R CMD INSTALL Rigraphlib StartedAt: 2025-10-23 20:20:54 -0000 (Thu, 23 Oct 2025) EndedAt: 2025-10-23 20:25:25 -0000 (Thu, 23 Oct 2025) EllapsedTime: 270.4 seconds RetCode: 0 Status: OK