Package: Rigraphlib Version: 1.1.2 Command: /home/biocbuild/R/R/bin/R CMD build --keep-empty-dirs --no-resave-data Rigraphlib StartedAt: 2025-10-21 02:30:00 -0000 (Tue, 21 Oct 2025) EndedAt: 2025-10-21 02:30:14 -0000 (Tue, 21 Oct 2025) EllapsedTime: 14.0 seconds RetCode: 0 Status: OK PackageFile: Rigraphlib_1.1.2.tar.gz PackageFileSize: 4.347 MiB