Package: Rigraphlib Version: 1.1.2 Command: /home/biocbuild/bbs-3.22-bioc/R/bin/R CMD INSTALL Rigraphlib StartedAt: 2025-10-24 15:15:43 -0400 (Fri, 24 Oct 2025) EndedAt: 2025-10-24 15:18:37 -0400 (Fri, 24 Oct 2025) EllapsedTime: 174.0 seconds RetCode: 0 Status: OK