Package: Rigraphlib Version: 1.1.2 Command: /home/biocbuild/bbs-3.22-bioc/R/bin/R CMD check --install=check:Rigraphlib.install-out.txt --library=/home/biocbuild/bbs-3.22-bioc/R/site-library --timings Rigraphlib_1.1.2.tar.gz StartedAt: 2025-10-28 03:22:17 -0400 (Tue, 28 Oct 2025) EndedAt: 2025-10-28 03:22:33 -0400 (Tue, 28 Oct 2025) EllapsedTime: 16.0 seconds RetCode: 0 Status: WARNINGS CheckDir: Rigraphlib.Rcheck Warnings: 1