Package: Rigraphlib Version: 1.1.2 Command: /Library/Frameworks/R.framework/Resources/bin/R CMD build --keep-empty-dirs --no-resave-data Rigraphlib StartedAt: 2025-10-27 18:22:26 -0400 (Mon, 27 Oct 2025) EndedAt: 2025-10-27 18:23:05 -0400 (Mon, 27 Oct 2025) EllapsedTime: 38.9 seconds RetCode: 0 Status: OK PackageFile: Rigraphlib_1.1.2.tar.gz PackageFileSize: 4.323 MiB