Package: Rigraphlib Version: 1.1.2 Command: /Library/Frameworks/R.framework/Resources/bin/R CMD INSTALL Rigraphlib StartedAt: 2025-10-26 15:03:00 -0400 (Sun, 26 Oct 2025) EndedAt: 2025-10-26 15:04:05 -0400 (Sun, 26 Oct 2025) EllapsedTime: 65.3 seconds RetCode: 0 Status: OK