Package: Rigraphlib Version: 1.1.2 Command: /Library/Frameworks/R.framework/Resources/bin/R CMD build --keep-empty-dirs --no-resave-data Rigraphlib StartedAt: 2025-10-26 17:44:52 -0400 (Sun, 26 Oct 2025) EndedAt: 2025-10-26 17:45:01 -0400 (Sun, 26 Oct 2025) EllapsedTime: 9.1 seconds RetCode: 0 Status: OK PackageFile: Rigraphlib_1.1.2.tar.gz PackageFileSize: 4.323 MiB