Package: RiboProfiling Version: 1.39.1 Command: /home/biocbuild/bbs-3.22-bioc/R/bin/R CMD INSTALL RiboProfiling StartedAt: 2025-10-27 15:50:22 -0400 (Mon, 27 Oct 2025) EndedAt: 2025-10-27 15:51:09 -0400 (Mon, 27 Oct 2025) EllapsedTime: 47.0 seconds RetCode: 0 Status: OK