Package: RiboProfiling Version: 1.39.1 Command: /Library/Frameworks/R.framework/Resources/bin/R CMD INSTALL RiboProfiling StartedAt: 2025-10-27 15:24:22 -0400 (Mon, 27 Oct 2025) EndedAt: 2025-10-27 15:24:42 -0400 (Mon, 27 Oct 2025) EllapsedTime: 20.0 seconds RetCode: 0 Status: OK