Package: RiboProfiling Version: 1.39.1 Command: /Library/Frameworks/R.framework/Resources/bin/R CMD build --keep-empty-dirs --no-resave-data RiboProfiling StartedAt: 2025-10-27 17:30:11 -0400 (Mon, 27 Oct 2025) EndedAt: 2025-10-27 17:31:35 -0400 (Mon, 27 Oct 2025) EllapsedTime: 84.0 seconds RetCode: 1 Status: ERROR PackageFile: None PackageFileSize: NA