Package: RiboProfiling Version: 1.39.1 Command: rm -rf RiboProfiling.buildbin-libdir && mkdir RiboProfiling.buildbin-libdir && /Users/biocbuild/BBS/utils/build-universal.sh RiboProfiling_1.39.1.tar.gz /Library/Frameworks/R.framework/Resources/bin/R RiboProfiling.buildbin-libdir StartedAt: 2025-10-07 22:58:47 -0400 (Tue, 07 Oct 2025) EndedAt: 2025-10-07 22:59:08 -0400 (Tue, 07 Oct 2025) EllapsedTime: 21.4 seconds RetCode: 0 Status: OK PackageFile: RiboProfiling_1.39.1.tgz PackageFileSize: 4.753 MiB