Package: RiboCrypt Version: 1.15.4 Command: /home/biocbuild/bbs-3.22-bioc/R/bin/R CMD INSTALL RiboCrypt StartedAt: 2025-10-24 15:52:46 -0400 (Fri, 24 Oct 2025) EndedAt: 2025-10-24 15:53:36 -0400 (Fri, 24 Oct 2025) EllapsedTime: 50.2 seconds RetCode: 0 Status: OK