Package: RiboCrypt Version: 1.15.4 Command: /home/biocbuild/bbs-3.22-bioc/R/bin/R CMD build --keep-empty-dirs --no-resave-data --md5 RiboCrypt StartedAt: 2025-10-24 19:46:25 -0400 (Fri, 24 Oct 2025) EndedAt: 2025-10-24 19:47:55 -0400 (Fri, 24 Oct 2025) EllapsedTime: 90.1 seconds RetCode: 0 Status: OK PackageFile: RiboCrypt_1.15.4.tar.gz PackageFileSize: 12.25 MiB