Package: RiboCrypt Version: 1.16.0 Command: /Library/Frameworks/R.framework/Resources/bin/R CMD INSTALL RiboCrypt StartedAt: 2025-11-10 15:21:48 -0500 (Mon, 10 Nov 2025) EndedAt: 2025-11-10 15:22:08 -0500 (Mon, 10 Nov 2025) EllapsedTime: 19.9 seconds RetCode: 0 Status: OK