Package: RiboCrypt Version: 1.16.0 Command: /Library/Frameworks/R.framework/Resources/bin/R CMD build --keep-empty-dirs --no-resave-data RiboCrypt StartedAt: 2025-11-10 17:31:23 -0500 (Mon, 10 Nov 2025) EndedAt: 2025-11-10 17:32:01 -0500 (Mon, 10 Nov 2025) EllapsedTime: 37.4 seconds RetCode: 0 Status: OK PackageFile: RiboCrypt_1.16.0.tar.gz PackageFileSize: 12.24 MiB